BEGIN:VCALENDAR
VERSION:2.0
PRODID:-//London Vintage Taxi Association - ECPv6.15.20//NONSGML v1.0//EN
CALSCALE:GREGORIAN
METHOD:PUBLISH
X-ORIGINAL-URL:https://lvta.co.uk
X-WR-CALDESC:Events for London Vintage Taxi Association
REFRESH-INTERVAL;VALUE=DURATION:PT1H
X-Robots-Tag:noindex
X-PUBLISHED-TTL:PT1H
BEGIN:VTIMEZONE
TZID:UTC
BEGIN:STANDARD
TZOFFSETFROM:+0000
TZOFFSETTO:+0000
TZNAME:UTC
DTSTART:20250101T000000
END:STANDARD
END:VTIMEZONE
BEGIN:VEVENT
DTSTART;TZID=UTC:20260321T090000
DTEND;TZID=UTC:20260321T140000
DTSTAMP:20260424T161412
CREATED:20250109T114830Z
LAST-MODIFIED:20260204T124830Z
UID:45410-1774083600-1774101600@lvta.co.uk
SUMMARY:The Inglenook Classic
DESCRIPTION:Classic Cars on the Farm. From March to September you can join fellow car enthusiasts who put on a display of over 200 classic and vintage cars and bikes. The Cherry Orchard Tea Room supplies sit down breakfasts and lunches or you can simply take it away. A lovely\, friendly location and meeting place for all the family.
URL:https://lvta.co.uk/event/inglenook-classics-7/
LOCATION:Inglenook Farm\, Moss Nook Lane\, Rainford Saint Helens\, Merseyside\, WA11 8AE\, United Kingdom
ATTACH;FMTTYPE=image/png:https://lvta.co.uk/wp-content/uploads/2026/02/Screenshot-2026-02-04-at-12.17.09.png
END:VEVENT
END:VCALENDAR