BEGIN:VCALENDAR
VERSION:2.0
PRODID:-//London Vintage Taxi Association - ECPv6.15.20//NONSGML v1.0//EN
CALSCALE:GREGORIAN
METHOD:PUBLISH
X-WR-CALNAME:London Vintage Taxi Association
X-ORIGINAL-URL:https://lvta.co.uk
X-WR-CALDESC:Events for London Vintage Taxi Association
REFRESH-INTERVAL;VALUE=DURATION:PT1H
X-Robots-Tag:noindex
X-PUBLISHED-TTL:PT1H
BEGIN:VTIMEZONE
TZID:Europe/London
BEGIN:DAYLIGHT
TZOFFSETFROM:+0000
TZOFFSETTO:+0100
TZNAME:BST
DTSTART:20250330T010000
END:DAYLIGHT
BEGIN:STANDARD
TZOFFSETFROM:+0100
TZOFFSETTO:+0000
TZNAME:GMT
DTSTART:20251026T010000
END:STANDARD
BEGIN:DAYLIGHT
TZOFFSETFROM:+0000
TZOFFSETTO:+0100
TZNAME:BST
DTSTART:20260329T010000
END:DAYLIGHT
BEGIN:STANDARD
TZOFFSETFROM:+0100
TZOFFSETTO:+0000
TZNAME:GMT
DTSTART:20261025T010000
END:STANDARD
BEGIN:DAYLIGHT
TZOFFSETFROM:+0000
TZOFFSETTO:+0100
TZNAME:BST
DTSTART:20270328T010000
END:DAYLIGHT
BEGIN:STANDARD
TZOFFSETFROM:+0100
TZOFFSETTO:+0000
TZNAME:GMT
DTSTART:20271031T010000
END:STANDARD
END:VTIMEZONE
BEGIN:VTIMEZONE
TZID:UTC
BEGIN:STANDARD
TZOFFSETFROM:+0000
TZOFFSETTO:+0000
TZNAME:UTC
DTSTART:20250101T000000
END:STANDARD
END:VTIMEZONE
BEGIN:VEVENT
DTSTART;TZID=Europe/London:20260601T080000
DTEND;TZID=Europe/London:20260630T170000
DTSTAMP:20260424T100016
CREATED:20260204T120513Z
LAST-MODIFIED:20260204T123121Z
UID:45760-1780300800-1782838800@lvta.co.uk
SUMMARY:BVAC HISTORIC MOTORING
DESCRIPTION:Date To Be Confirmed\nWith more than 1200 vintage and classic vehicles of all shapes and sizes making the journey to Thirlestane\, this is one of the biggest and best car rallies in the whole country.  There’s something for everyone at the BVAC Classic. Veteran\, Vintage and Classic Cars\, Motorcycles\, American Cars\, Commercial\, Agricultural and Military Vehicles will be on show. A Festival of Fun – a fabulous day out for the whole family with superb attractions\, entertainment\, live music\, shopping and ‘Taste of the Borders Food\, Craft\, Gift and Retail Pavilion’.  All set against the backdrop of magnificent Thirlestane Castle\, one of the oldest and finest castles in Scotland.
URL:https://lvta.co.uk/event/bvac-historic-motoring/
END:VEVENT
BEGIN:VEVENT
DTSTART;TZID=UTC:20260620T090000
DTEND;TZID=UTC:20260620T140000
DTSTAMP:20260424T100016
CREATED:20250109T114621Z
LAST-MODIFIED:20260204T115342Z
UID:45404-1781946000-1781964000@lvta.co.uk
SUMMARY:The Inglenook Classic
DESCRIPTION:Classic Cars on the Farm. From March to September you can join fellow car enthusiasts who put on a display of over 200 classic and vintage cars and bikes. The Cherry Orchard Tea Room supplies sit down breakfasts and lunches or you can simply take it away. A lovely\, friendly location and meeting place for all the family.
URL:https://lvta.co.uk/event/inglenook-classics-4/
LOCATION:Inglenook Farm\, Moss Nook Lane\, Rainford Saint Helens\, Merseyside\, WA11 8AE\, United Kingdom
END:VEVENT
END:VCALENDAR