BEGIN:VCALENDAR
VERSION:2.0
PRODID:-//London Vintage Taxi Association - ECPv6.15.20//NONSGML v1.0//EN
CALSCALE:GREGORIAN
METHOD:PUBLISH
X-ORIGINAL-URL:https://lvta.co.uk
X-WR-CALDESC:Events for London Vintage Taxi Association
REFRESH-INTERVAL;VALUE=DURATION:PT1H
X-Robots-Tag:noindex
X-PUBLISHED-TTL:PT1H
BEGIN:VTIMEZONE
TZID:Europe/London
BEGIN:DAYLIGHT
TZOFFSETFROM:+0000
TZOFFSETTO:+0100
TZNAME:BST
DTSTART:20250330T010000
END:DAYLIGHT
BEGIN:STANDARD
TZOFFSETFROM:+0100
TZOFFSETTO:+0000
TZNAME:GMT
DTSTART:20251026T010000
END:STANDARD
BEGIN:DAYLIGHT
TZOFFSETFROM:+0000
TZOFFSETTO:+0100
TZNAME:BST
DTSTART:20260329T010000
END:DAYLIGHT
BEGIN:STANDARD
TZOFFSETFROM:+0100
TZOFFSETTO:+0000
TZNAME:GMT
DTSTART:20261025T010000
END:STANDARD
BEGIN:DAYLIGHT
TZOFFSETFROM:+0000
TZOFFSETTO:+0100
TZNAME:BST
DTSTART:20270328T010000
END:DAYLIGHT
BEGIN:STANDARD
TZOFFSETFROM:+0100
TZOFFSETTO:+0000
TZNAME:GMT
DTSTART:20271031T010000
END:STANDARD
END:VTIMEZONE
BEGIN:VEVENT
DTSTART;TZID=Europe/London:20260901T080000
DTEND;TZID=Europe/London:20260930T170000
DTSTAMP:20260424T173543
CREATED:20260204T121206Z
LAST-MODIFIED:20260204T122725Z
UID:45766-1788249600-1790787600@lvta.co.uk
SUMMARY:ROMNEY\, HYTHE AND DYMCHURCH RAILWAY BUS RALLY DAY
DESCRIPTION:DATE TO BE CONFIRMED\nBus Rally Day where buses\, trains and taxis come together and welcome the public to this miniature railway experience; Romney\, Hythe & Dymchurch Railway\, 13.5 miles of mainline
URL:https://lvta.co.uk/event/romney-hythe-and-dymchurch-railway-bus-rally-day/
LOCATION:New Romney Station\, New Romney\, TN28 8PL\, United Kingdom
ATTACH;FMTTYPE=image/png:https://lvta.co.uk/wp-content/uploads/2026/02/Screenshot-2026-02-04-at-12.18.06.png
END:VEVENT
BEGIN:VEVENT
DTSTART;TZID=Europe/London:20260927T120000
DTEND;TZID=Europe/London:20260928T170000
DTSTAMP:20260424T173543
CREATED:20260204T121525Z
LAST-MODIFIED:20260204T122426Z
UID:45768-1790510400-1790614800@lvta.co.uk
SUMMARY:EAST ANGLIAN TRANSPORT MUSEUM TROLLEYBUS WEEKEND
DESCRIPTION:The annual transport extravaganza where every available vehicle in their fleet will be running\, with the added excitement of after dark rides on Saturday evening until 9pm where the museum takes on a very special atmosphere under the streetlights. Every available trolleybus in the museum’s collection will be running in service with tram and light railway rides. After dark running on Saturday until 9pm. Free regular bus services linking the museum with Lowestoft & Beccles using the museum’s fleet of preserved vehicles. Café\, BBQ\, Museum Shop. Plus all the usual museum attractions! \nSaturday 27th  September 12pm – 9pm \nSunday 28th  September 11am – 5pm
URL:https://lvta.co.uk/event/east-anglian-transport-museum-trolleybus-weekend/
LOCATION:Carlton Colville\, Chapel Road\, Carlton Colville\, Lowestoft\,\, Lowestoft\, NR33 8BL\, United Kingdom
ATTACH;FMTTYPE=image/png:https://lvta.co.uk/wp-content/uploads/2026/02/Screenshot-2026-02-04-at-12.17.39.png
END:VEVENT
END:VCALENDAR