BEGIN:VCALENDAR
VERSION:2.0
PRODID:-//London Vintage Taxi Association - ECPv6.15.20//NONSGML v1.0//EN
CALSCALE:GREGORIAN
METHOD:PUBLISH
X-WR-CALNAME:London Vintage Taxi Association
X-ORIGINAL-URL:https://lvta.co.uk
X-WR-CALDESC:Events for London Vintage Taxi Association
REFRESH-INTERVAL;VALUE=DURATION:PT1H
X-Robots-Tag:noindex
X-PUBLISHED-TTL:PT1H
BEGIN:VTIMEZONE
TZID:Europe/London
BEGIN:DAYLIGHT
TZOFFSETFROM:+0000
TZOFFSETTO:+0100
TZNAME:BST
DTSTART:20250330T010000
END:DAYLIGHT
BEGIN:STANDARD
TZOFFSETFROM:+0100
TZOFFSETTO:+0000
TZNAME:GMT
DTSTART:20251026T010000
END:STANDARD
BEGIN:DAYLIGHT
TZOFFSETFROM:+0000
TZOFFSETTO:+0100
TZNAME:BST
DTSTART:20260329T010000
END:DAYLIGHT
BEGIN:STANDARD
TZOFFSETFROM:+0100
TZOFFSETTO:+0000
TZNAME:GMT
DTSTART:20261025T010000
END:STANDARD
BEGIN:DAYLIGHT
TZOFFSETFROM:+0000
TZOFFSETTO:+0100
TZNAME:BST
DTSTART:20270328T010000
END:DAYLIGHT
BEGIN:STANDARD
TZOFFSETFROM:+0100
TZOFFSETTO:+0000
TZNAME:GMT
DTSTART:20271031T010000
END:STANDARD
END:VTIMEZONE
BEGIN:VTIMEZONE
TZID:UTC
BEGIN:STANDARD
TZOFFSETFROM:+0000
TZOFFSETTO:+0000
TZNAME:UTC
DTSTART:20230101T000000
END:STANDARD
END:VTIMEZONE
BEGIN:VEVENT
DTSTART;TZID=Europe/London:20260204T000000
DTEND;TZID=Europe/London:20260204T000000
DTSTAMP:20260424T174636
CREATED:20260204T122854Z
LAST-MODIFIED:20260204T122958Z
UID:45763-1770163200-1770163200@lvta.co.uk
SUMMARY:MILLPORT CLASSIC CAR SHOW
DESCRIPTION:Set in the beautiful grounds of the Garrison on Millport’s scenic sea front. The Millport Classic Car event has gone from strength to strength with more fabulous ‘old timers’ on show every year and a public vote for 1st\, 2nd and 3rd placed cars. \nThe show has continued to grow and is now so popular that we have to cap numbers at 150 cars. A beautiful atmosphere is always guaranteed\, thanks to the lovely owners who are always so happy to share their compelling stories of restorations – mostly fun\, with a few bumps in the road of course and a great deal of commitment and passion. \nA Millport Classic Car Committee has now been formed and fundraising by our members will help to ensure this family friendly event continues. Car enthusiasts will be able to adore & appreciate some of the most beautiful dream machines in the country again.
URL:https://lvta.co.uk/event/millport-classic-car-show/
LOCATION:Merseyside
END:VEVENT
BEGIN:VEVENT
DTSTART;TZID=UTC:20240421T080000
DTEND;TZID=UTC:20240421T170000
DTSTAMP:20260424T174636
CREATED:20240120T165353Z
LAST-MODIFIED:20260204T123821Z
UID:45003-1713686400-1713718800@lvta.co.uk
SUMMARY:Drive-it Day  Summerlee/Coatbridge Gartcosh Car Show
DESCRIPTION:The event raises funds for various charities\, which have included Maggie’s Lanarkshire\, St Andrew’s Hospice\, the Beatson Cancer Charity\, and Glasgow Children’s Hospital Charity in previous years. The show typically features over a hundred vintage and classic cars\, live entertainment\, family activities like face-painting\, a tombola\, and access to the museum’s usual attractions like the mine tours and indoor exhibitions. 
URL:https://lvta.co.uk/event/drive-it-day-summerlee-coatbridge-car-show-2/
LOCATION:Coatbridge\, Summerlee Museum of Scottish Industrial Life\, Heritage Way\, Coatbridge\, Scotland\, ML5 1QD
ORGANIZER;CN="Alan and Sandra Brown":MAILTO:san.soubeyran@hotmail.co.uk
END:VEVENT
END:VCALENDAR