BEGIN:VCALENDAR
VERSION:2.0
PRODID:-//London Vintage Taxi Association - ECPv6.15.20//NONSGML v1.0//EN
CALSCALE:GREGORIAN
METHOD:PUBLISH
X-WR-CALNAME:London Vintage Taxi Association
X-ORIGINAL-URL:https://lvta.co.uk
X-WR-CALDESC:Events for London Vintage Taxi Association
REFRESH-INTERVAL;VALUE=DURATION:PT1H
X-Robots-Tag:noindex
X-PUBLISHED-TTL:PT1H
BEGIN:VTIMEZONE
TZID:Europe/London
BEGIN:DAYLIGHT
TZOFFSETFROM:+0000
TZOFFSETTO:+0100
TZNAME:BST
DTSTART:20250330T010000
END:DAYLIGHT
BEGIN:STANDARD
TZOFFSETFROM:+0100
TZOFFSETTO:+0000
TZNAME:GMT
DTSTART:20251026T010000
END:STANDARD
BEGIN:DAYLIGHT
TZOFFSETFROM:+0000
TZOFFSETTO:+0100
TZNAME:BST
DTSTART:20260329T010000
END:DAYLIGHT
BEGIN:STANDARD
TZOFFSETFROM:+0100
TZOFFSETTO:+0000
TZNAME:GMT
DTSTART:20261025T010000
END:STANDARD
BEGIN:DAYLIGHT
TZOFFSETFROM:+0000
TZOFFSETTO:+0100
TZNAME:BST
DTSTART:20270328T010000
END:DAYLIGHT
BEGIN:STANDARD
TZOFFSETFROM:+0100
TZOFFSETTO:+0000
TZNAME:GMT
DTSTART:20271031T010000
END:STANDARD
END:VTIMEZONE
BEGIN:VTIMEZONE
TZID:UTC
BEGIN:STANDARD
TZOFFSETFROM:+0000
TZOFFSETTO:+0000
TZNAME:UTC
DTSTART:20250101T000000
END:STANDARD
END:VTIMEZONE
BEGIN:VEVENT
DTSTART;TZID=Europe/London:20260501T080000
DTEND;TZID=Europe/London:20260531T170000
DTSTAMP:20260422T113350
CREATED:20260204T114417Z
LAST-MODIFIED:20260204T123659Z
UID:45746-1777622400-1780246800@lvta.co.uk
SUMMARY:PRIVATE HIRE & TAXI SHOW
DESCRIPTION:Date to be Announced\nBringing together the Taxi and Private Hire community showcasing new vehicles and technology under one roof the London Vintage Taxi Association are invited to present a variety of vintage and classic taxis to bring nostalgia to this popular show.
URL:https://lvta.co.uk/event/private-hire-taxi-show/
LOCATION:MK Dons Stadium\, Stadium MK\, Stadium Way\, Milton Keynes\, Bedfordshire\, MK1 1ST
ATTACH;FMTTYPE=image/png:https://lvta.co.uk/wp-content/uploads/2026/02/Screenshot-2026-02-04-at-12.16.42.png
END:VEVENT
BEGIN:VEVENT
DTSTART;TZID=Europe/London:20260502T100000
DTEND;TZID=Europe/London:20260502T140000
DTSTAMP:20260422T113350
CREATED:20260204T124104Z
LAST-MODIFIED:20260204T124613Z
UID:45790-1777716000-1777730400@lvta.co.uk
SUMMARY:Williamsburg British Car Show - North America
DESCRIPTION:This year’s Williamsburg British and Imported Car Show celebrates the 26th anniversary of our event! As in the past\, we will be sharing our mutual interest in classic and sporty automobiles with each other and the public. Our intention is to display a wide variety of classic and modern cars from around the world. You can tell the story of your unique vehicles) and enjoy the activities and camaraderie! We have an exciting location for this year’s show: the Williamsburg Premium Outlets! This setting adds a special element to the show. The event area is in the middle of the Outlet under two rows of large trees offering shade to you and your automobiles)! The mall is one of the most popular shopping centers in Virginia! There are more than 120 shops at the facility.
URL:https://lvta.co.uk/event/williamsburg-british-car-show-north-america/
LOCATION:Williamsburg British Car Show\, 5715 Richmond Road\,\, Williamsburg\, VA 23188 \, United States
ATTACH;FMTTYPE=image/png:https://lvta.co.uk/wp-content/uploads/2026/02/Screenshot-2026-02-04-at-12.41.43.png
END:VEVENT
BEGIN:VEVENT
DTSTART;TZID=UTC:20260516T090000
DTEND;TZID=UTC:20260516T140000
DTSTAMP:20260422T113350
CREATED:20250109T114702Z
LAST-MODIFIED:20260204T115200Z
UID:45406-1778922000-1778940000@lvta.co.uk
SUMMARY:The Inglenook Classic
DESCRIPTION:Classic Cars on the Farm. From March to September you can join fellow car enthusiasts who put on a display of over 200 classic and vintage cars and bikes. The Cherry Orchard Tea Room supplies sit down breakfasts and lunches or you can simply take it away. A lovely\, friendly location and meeting place for all the family.
URL:https://lvta.co.uk/event/inglenook-classics-5/
LOCATION:Inglenook Farm\, Moss Nook Lane\, Rainford Saint Helens\, Merseyside\, WA11 8AE\, United Kingdom
END:VEVENT
BEGIN:VEVENT
DTSTART;TZID=UTC:20260523T080000
DTEND;TZID=UTC:20260524T180000
DTSTAMP:20260422T113350
CREATED:20250109T113718Z
LAST-MODIFIED:20260126T105917Z
UID:45384-1779523200-1779645600@lvta.co.uk
SUMMARY:Enfield Motoring Pageant
DESCRIPTION:
URL:https://lvta.co.uk/event/enfield-motoring-pageant/
LOCATION:Enfield Playing Fields\, Cobham Close\, Enfield\, Middlesex\, EN1 3SU\, United Kingdom
END:VEVENT
END:VCALENDAR